BEGIN:VCALENDAR
VERSION:2.0
PRODID:-//Artistic Motion School of Arts - ECPv6.15.12.2//NONSGML v1.0//EN
CALSCALE:GREGORIAN
METHOD:PUBLISH
X-WR-CALNAME:Artistic Motion School of Arts
X-ORIGINAL-URL:https://artisticmotiondance.com
X-WR-CALDESC:Events for Artistic Motion School of Arts
REFRESH-INTERVAL;VALUE=DURATION:PT1H
X-Robots-Tag:noindex
X-PUBLISHED-TTL:PT1H
BEGIN:VTIMEZONE
TZID:America/New_York
BEGIN:DAYLIGHT
TZOFFSETFROM:-0500
TZOFFSETTO:-0400
TZNAME:EDT
DTSTART:20250309T070000
END:DAYLIGHT
BEGIN:STANDARD
TZOFFSETFROM:-0400
TZOFFSETTO:-0500
TZNAME:EST
DTSTART:20251102T060000
END:STANDARD
BEGIN:DAYLIGHT
TZOFFSETFROM:-0500
TZOFFSETTO:-0400
TZNAME:EDT
DTSTART:20260308T070000
END:DAYLIGHT
BEGIN:STANDARD
TZOFFSETFROM:-0400
TZOFFSETTO:-0500
TZNAME:EST
DTSTART:20261101T060000
END:STANDARD
BEGIN:DAYLIGHT
TZOFFSETFROM:-0500
TZOFFSETTO:-0400
TZNAME:EDT
DTSTART:20270314T070000
END:DAYLIGHT
BEGIN:STANDARD
TZOFFSETFROM:-0400
TZOFFSETTO:-0500
TZNAME:EST
DTSTART:20271107T060000
END:STANDARD
END:VTIMEZONE
BEGIN:VEVENT
DTSTART;VALUE=DATE:20260504
DTEND;VALUE=DATE:20260510
DTSTAMP:20260423T084405
CREATED:20251208T121757Z
LAST-MODIFIED:20251208T121757Z
UID:2648-1777852800-1778371199@artisticmotiondance.com
SUMMARY:No Classes
DESCRIPTION:
URL:https://artisticmotiondance.com/event/no-classes-5/
END:VEVENT
BEGIN:VEVENT
DTSTART;VALUE=DATE:20260504
DTEND;VALUE=DATE:20260510
DTSTAMP:20260423T084405
CREATED:20251208T122001Z
LAST-MODIFIED:20251208T122001Z
UID:2654-1777852800-1778371199@artisticmotiondance.com
SUMMARY:Spring Production with TIB
DESCRIPTION:
URL:https://artisticmotiondance.com/event/spring-production-with-tib/
END:VEVENT
BEGIN:VEVENT
DTSTART;VALUE=DATE:20260511
DTEND;VALUE=DATE:20260512
DTSTAMP:20260423T084405
CREATED:20251208T121901Z
LAST-MODIFIED:20251208T121901Z
UID:2652-1778457600-1778543999@artisticmotiondance.com
SUMMARY:Classes Resume
DESCRIPTION:
URL:https://artisticmotiondance.com/event/classes-resume-3/
END:VEVENT
BEGIN:VEVENT
DTSTART;VALUE=DATE:20260603
DTEND;VALUE=DATE:20260604
DTSTAMP:20260423T084405
CREATED:20251208T122033Z
LAST-MODIFIED:20251208T122033Z
UID:2656-1780444800-1780531199@artisticmotiondance.com
SUMMARY:Final day of classes
DESCRIPTION:
URL:https://artisticmotiondance.com/event/final-day-of-classes/
END:VEVENT
BEGIN:VEVENT
DTSTART;VALUE=DATE:20260606
DTEND;VALUE=DATE:20260607
DTSTAMP:20260423T084405
CREATED:20251208T122100Z
LAST-MODIFIED:20251208T122100Z
UID:2658-1780704000-1780790399@artisticmotiondance.com
SUMMARY:Recital
DESCRIPTION:
URL:https://artisticmotiondance.com/event/recital/
END:VEVENT
END:VCALENDAR